BEGIN:VCALENDAR
VERSION:2.0
PRODID:-//Murray Unitarian Universalist Church - ECPv6.15.20//NONSGML v1.0//EN
CALSCALE:GREGORIAN
METHOD:PUBLISH
X-WR-CALNAME:Murray Unitarian Universalist Church
X-ORIGINAL-URL:https://murrayuuchurch.org
X-WR-CALDESC:Events for Murray Unitarian Universalist Church
REFRESH-INTERVAL;VALUE=DURATION:PT1H
X-Robots-Tag:noindex
X-PUBLISHED-TTL:PT1H
BEGIN:VTIMEZONE
TZID:America/New_York
BEGIN:DAYLIGHT
TZOFFSETFROM:-0500
TZOFFSETTO:-0400
TZNAME:EDT
DTSTART:20240310T070000
END:DAYLIGHT
BEGIN:STANDARD
TZOFFSETFROM:-0400
TZOFFSETTO:-0500
TZNAME:EST
DTSTART:20241103T060000
END:STANDARD
BEGIN:DAYLIGHT
TZOFFSETFROM:-0500
TZOFFSETTO:-0400
TZNAME:EDT
DTSTART:20250309T070000
END:DAYLIGHT
BEGIN:STANDARD
TZOFFSETFROM:-0400
TZOFFSETTO:-0500
TZNAME:EST
DTSTART:20251102T060000
END:STANDARD
BEGIN:DAYLIGHT
TZOFFSETFROM:-0500
TZOFFSETTO:-0400
TZNAME:EDT
DTSTART:20260308T070000
END:DAYLIGHT
BEGIN:STANDARD
TZOFFSETFROM:-0400
TZOFFSETTO:-0500
TZNAME:EST
DTSTART:20261101T060000
END:STANDARD
END:VTIMEZONE
BEGIN:VEVENT
DTSTART;TZID=America/New_York:20250608T100000
DTEND;TZID=America/New_York:20250608T110000
DTSTAMP:20260419T181141
CREATED:20250530T190727Z
LAST-MODIFIED:20250606T184204Z
UID:241473-1749376800-1749380400@murrayuuchurch.org
SUMMARY:Sunday Worship\, June 8
DESCRIPTION:Youth Sunday Celebration\nLed by Carol Konvalinka-Connolly\, Director of Lifespan Religious Exploration \nWhere do we come from? Who are we? What do we believe? These are questions that we explore as part of our Religious Exploration program. Join us on Youth Sunday as we celebrate who we are as Unitarian Universalists and what we believe. The service will include presentations from Murray children and youth\, and we’ll also take time to honor Murray high school graduates. \n\n\nService begins at 10 a.m. This is a hybrid service. Join us in the sanctuary or log on to Zoom from the comfort and safety of your own home to participate in our worship experience. Service ends at 11 a.m.\, followed by coffee and fellowship. We are a certified Welcoming Congregation and Green Sanctuary
URL:https://murrayuuchurch.org/muuc-event/sunday-worship-june-8/
LOCATION:Sanctuary\, Murray UU Church\, 505 N. Main St.\, Attleboro\, MA\, 02703\, United States
CATEGORIES:Sunday Worship
ATTACH;FMTTYPE=image/jpeg:https://murrayuuchurch.org/wp-content/uploads/2025/01/MUU-1200x628_Purple-Blue.jpg
ORGANIZER;CN="Murray Unitarian Universalist Church":MAILTO:office@murrayuuchurch.org
END:VEVENT
END:VCALENDAR