BEGIN:VCALENDAR
VERSION:2.0
PRODID:-//Murray Unitarian Universalist Church - ECPv6.15.20//NONSGML v1.0//EN
CALSCALE:GREGORIAN
METHOD:PUBLISH
X-ORIGINAL-URL:https://murrayuuchurch.org
X-WR-CALDESC:Events for Murray Unitarian Universalist Church
REFRESH-INTERVAL;VALUE=DURATION:PT1H
X-Robots-Tag:noindex
X-PUBLISHED-TTL:PT1H
BEGIN:VTIMEZONE
TZID:America/New_York
BEGIN:DAYLIGHT
TZOFFSETFROM:-0500
TZOFFSETTO:-0400
TZNAME:EDT
DTSTART:20240310T070000
END:DAYLIGHT
BEGIN:STANDARD
TZOFFSETFROM:-0400
TZOFFSETTO:-0500
TZNAME:EST
DTSTART:20241103T060000
END:STANDARD
BEGIN:DAYLIGHT
TZOFFSETFROM:-0500
TZOFFSETTO:-0400
TZNAME:EDT
DTSTART:20250309T070000
END:DAYLIGHT
BEGIN:STANDARD
TZOFFSETFROM:-0400
TZOFFSETTO:-0500
TZNAME:EST
DTSTART:20251102T060000
END:STANDARD
BEGIN:DAYLIGHT
TZOFFSETFROM:-0500
TZOFFSETTO:-0400
TZNAME:EDT
DTSTART:20260308T070000
END:DAYLIGHT
BEGIN:STANDARD
TZOFFSETFROM:-0400
TZOFFSETTO:-0500
TZNAME:EST
DTSTART:20261101T060000
END:STANDARD
END:VTIMEZONE
BEGIN:VEVENT
DTSTART;TZID=America/New_York:20250614T140000
DTEND;TZID=America/New_York:20250614T160000
DTSTAMP:20260419T181921
CREATED:20250606T154025Z
LAST-MODIFIED:20250606T160852Z
UID:241530-1749909600-1749916800@murrayuuchurch.org
SUMMARY:No Kings\, Attleboro
DESCRIPTION:NO KINGS is a national day of action and mass mobilization in response to increasing authoritarian excesses and corruption from Trump and his allies. \nOn Saturday\, June 14\, let’s take to the sidewalks of Attleboro. We’re not gathering to feed his ego. We’re building a movement that leaves him behind. The flag doesn’t belong to Donald Trump. It belongs to us. \n \n“Good Trouble” stickers for sale\, proceeds to benefit the Hebron Food Pantry
URL:https://murrayuuchurch.org/muuc-event/no-kings-attleboro/
LOCATION:Downtown Attleboro\, 1 Park St.\, Attleboro\, MA\, United States
CATEGORIES:Protest,Standout
ATTACH;FMTTYPE=image/jpeg:https://murrayuuchurch.org/wp-content/uploads/2025/06/NoKings_art.jpg
END:VEVENT
END:VCALENDAR