BEGIN:VCALENDAR
VERSION:2.0
PRODID:-//Murray Unitarian Universalist Church - ECPv6.15.20//NONSGML v1.0//EN
CALSCALE:GREGORIAN
METHOD:PUBLISH
X-WR-CALNAME:Murray Unitarian Universalist Church
X-ORIGINAL-URL:https://murrayuuchurch.org
X-WR-CALDESC:Events for Murray Unitarian Universalist Church
REFRESH-INTERVAL;VALUE=DURATION:PT1H
X-Robots-Tag:noindex
X-PUBLISHED-TTL:PT1H
BEGIN:VTIMEZONE
TZID:America/New_York
BEGIN:DAYLIGHT
TZOFFSETFROM:-0500
TZOFFSETTO:-0400
TZNAME:EDT
DTSTART:20240310T070000
END:DAYLIGHT
BEGIN:STANDARD
TZOFFSETFROM:-0400
TZOFFSETTO:-0500
TZNAME:EST
DTSTART:20241103T060000
END:STANDARD
BEGIN:DAYLIGHT
TZOFFSETFROM:-0500
TZOFFSETTO:-0400
TZNAME:EDT
DTSTART:20250309T070000
END:DAYLIGHT
BEGIN:STANDARD
TZOFFSETFROM:-0400
TZOFFSETTO:-0500
TZNAME:EST
DTSTART:20251102T060000
END:STANDARD
BEGIN:DAYLIGHT
TZOFFSETFROM:-0500
TZOFFSETTO:-0400
TZNAME:EDT
DTSTART:20260308T070000
END:DAYLIGHT
BEGIN:STANDARD
TZOFFSETFROM:-0400
TZOFFSETTO:-0500
TZNAME:EST
DTSTART:20261101T060000
END:STANDARD
END:VTIMEZONE
BEGIN:VEVENT
DTSTART;TZID=America/New_York:20250629T100000
DTEND;TZID=America/New_York:20250629T110000
DTSTAMP:20260419T163554
CREATED:20250530T162715Z
LAST-MODIFIED:20250624T174816Z
UID:241436-1751191200-1751194800@murrayuuchurch.org
SUMMARY:Becoming More: Living from the Heart
DESCRIPTION:Summer Service\nBecoming More: Living from the Heart in a World of Transition\nLed by Kathleen Fox Redmond \nWe stand at a threshold between an old story ~ rooted in fear\, scarcity\, and separation\, and a new\, soul-led story of connectedness\, Love\, and compassionate action. \nIn this reflection\, Kathleen Fox Redmond explores what it means to “become more\, not less” in a time of global and personal upheaval and transformation. \n\nSummer services begin at 10 am. This is an online service\, log on to Zoom from wherever you are to participate in our worship experience. \nWe are a certified Welcoming Congregation and Green Sanctuary
URL:https://murrayuuchurch.org/muuc-event/becoming-more/
LOCATION:MA
CATEGORIES:Summer Services,Sunday Worship
ATTACH;FMTTYPE=image/jpeg:https://murrayuuchurch.org/wp-content/uploads/2025/06/beautiful-hands-heart-5390-copy.jpg
END:VEVENT
END:VCALENDAR