BEGIN:VCALENDAR
VERSION:2.0
PRODID:-//Murray Unitarian Universalist Church - ECPv6.15.20//NONSGML v1.0//EN
CALSCALE:GREGORIAN
METHOD:PUBLISH
X-ORIGINAL-URL:https://murrayuuchurch.org
X-WR-CALDESC:Events for Murray Unitarian Universalist Church
REFRESH-INTERVAL;VALUE=DURATION:PT1H
X-Robots-Tag:noindex
X-PUBLISHED-TTL:PT1H
BEGIN:VTIMEZONE
TZID:America/New_York
BEGIN:DAYLIGHT
TZOFFSETFROM:-0500
TZOFFSETTO:-0400
TZNAME:EDT
DTSTART:20240310T070000
END:DAYLIGHT
BEGIN:STANDARD
TZOFFSETFROM:-0400
TZOFFSETTO:-0500
TZNAME:EST
DTSTART:20241103T060000
END:STANDARD
BEGIN:DAYLIGHT
TZOFFSETFROM:-0500
TZOFFSETTO:-0400
TZNAME:EDT
DTSTART:20250309T070000
END:DAYLIGHT
BEGIN:STANDARD
TZOFFSETFROM:-0400
TZOFFSETTO:-0500
TZNAME:EST
DTSTART:20251102T060000
END:STANDARD
BEGIN:DAYLIGHT
TZOFFSETFROM:-0500
TZOFFSETTO:-0400
TZNAME:EDT
DTSTART:20260308T070000
END:DAYLIGHT
BEGIN:STANDARD
TZOFFSETFROM:-0400
TZOFFSETTO:-0500
TZNAME:EST
DTSTART:20261101T060000
END:STANDARD
END:VTIMEZONE
BEGIN:VEVENT
DTSTART;TZID=America/New_York:20251004T180000
DTEND;TZID=America/New_York:20251004T210000
DTSTAMP:20260419T132938
CREATED:20250915T150059Z
LAST-MODIFIED:20250915T152309Z
UID:241834-1759600800-1759611600@murrayuuchurch.org
SUMMARY:Potluck Dinner and a Movie
DESCRIPTION:Social Concerns Committee presents\nA celebration of Indigenous Peoples’ Day\, a potluck dinner\, and viewing the educational documentary: \nRumble: The Indians Who Rocked The World\nAbout the Native Americans who rocked the World. View the trailer. \nThis will be held in the Unity Room. Discussion following the viewing. \nPlease use this form to let us if you are attending and what potluck dish you will be bringing.
URL:https://murrayuuchurch.org/muuc-event/potluck-dinner-and-a-movie/
LOCATION:Unity Room\, 505 N Main St\, Attleboro\, MA\, 02703\, United States
CATEGORIES:Inside
ATTACH;FMTTYPE=image/jpeg:https://murrayuuchurch.org/wp-content/uploads/2025/09/RUMBLE_Documentary.jpg
ORGANIZER;CN="Murray Unitarian Universalist Church":MAILTO:office@murrayuuchurch.org
END:VEVENT
END:VCALENDAR