BEGIN:VCALENDAR
VERSION:2.0
PRODID:-//Murray Unitarian Universalist Church - ECPv6.15.20//NONSGML v1.0//EN
CALSCALE:GREGORIAN
METHOD:PUBLISH
X-WR-CALNAME:Murray Unitarian Universalist Church
X-ORIGINAL-URL:https://murrayuuchurch.org
X-WR-CALDESC:Events for Murray Unitarian Universalist Church
REFRESH-INTERVAL;VALUE=DURATION:PT1H
X-Robots-Tag:noindex
X-PUBLISHED-TTL:PT1H
BEGIN:VTIMEZONE
TZID:America/New_York
BEGIN:DAYLIGHT
TZOFFSETFROM:-0500
TZOFFSETTO:-0400
TZNAME:EDT
DTSTART:20250309T070000
END:DAYLIGHT
BEGIN:STANDARD
TZOFFSETFROM:-0400
TZOFFSETTO:-0500
TZNAME:EST
DTSTART:20251102T060000
END:STANDARD
BEGIN:DAYLIGHT
TZOFFSETFROM:-0500
TZOFFSETTO:-0400
TZNAME:EDT
DTSTART:20260308T070000
END:DAYLIGHT
BEGIN:STANDARD
TZOFFSETFROM:-0400
TZOFFSETTO:-0500
TZNAME:EST
DTSTART:20261101T060000
END:STANDARD
BEGIN:DAYLIGHT
TZOFFSETFROM:-0500
TZOFFSETTO:-0400
TZNAME:EDT
DTSTART:20270314T070000
END:DAYLIGHT
BEGIN:STANDARD
TZOFFSETFROM:-0400
TZOFFSETTO:-0500
TZNAME:EST
DTSTART:20271107T060000
END:STANDARD
END:VTIMEZONE
BEGIN:VEVENT
DTSTART;TZID=America/New_York:20260111T100000
DTEND;TZID=America/New_York:20260111T110000
DTSTAMP:20260420T132148
CREATED:20260101T170544Z
LAST-MODIFIED:20260101T170544Z
UID:242258-1768125600-1768129200@murrayuuchurch.org
SUMMARY:Mind and Matter
DESCRIPTION:Sunday\, January 11\, 2026 \nMind and Matter: Embodying the Power of Critical Thinking\nLed by Rev. F. Vernon Wright V \n\nService begins at 10 a.m. This is a hybrid service. Join us in the sanctuary or log on to Zoom from the comfort and safety of your own home to participate in our worship experience. Service ends at 11 a.m.\, followed by coffee and fellowship. \nWe are a certified Welcoming Congregation and Green Sanctuary
URL:https://murrayuuchurch.org/muuc-event/mind-and-matter/
LOCATION:Sanctuary\, Murray UU Church\, 505 N. Main St.\, Attleboro\, MA\, 02703\, United States
CATEGORIES:Sunday Worship
ATTACH;FMTTYPE=image/jpeg:https://murrayuuchurch.org/wp-content/uploads/2025/01/MUU-1200x628_Purple-Green.jpg
ORGANIZER;CN="Murray Unitarian Universalist Church":MAILTO:office@murrayuuchurch.org
END:VEVENT
BEGIN:VEVENT
DTSTART;TZID=America/New_York:20260111T113000
DTEND;TZID=America/New_York:20260111T133000
DTSTAMP:20260420T132148
CREATED:20260104T204627Z
LAST-MODIFIED:20260104T204858Z
UID:242279-1768131000-1768138200@murrayuuchurch.org
SUMMARY:Mid-Year Meeting
DESCRIPTION:Sunday\, January 11\, 2026 \nMurray UU Church’s mid-year meeting after the regular service in the Unity Room. One of the key agenda items is a vote to amend Murray’s bylaws regarding the Committee on Ministry. Voting is open to all Murray members. \nTo be considered a voting Murray member\, a member must make a recorded contribution at any time prior to the mid-year meeting AND have signed the membership book prior to November 27\, 2025. \nZoom will be available as a live stream only. Remote participation\, including voting and questions\, will not be available.
URL:https://murrayuuchurch.org/muuc-event/mid-year-meeting/
LOCATION:Unity Room\, 505 N Main St\, Attleboro\, MA\, 02703\, United States
CATEGORIES:Church Meeting
ATTACH;FMTTYPE=image/jpeg:https://murrayuuchurch.org/wp-content/uploads/2025/07/MUU-1200x628_White.jpg
ORGANIZER;CN="Murray Unitarian Universalist Church":MAILTO:office@murrayuuchurch.org
END:VEVENT
END:VCALENDAR