BEGIN:VCALENDAR
VERSION:2.0
PRODID:-//Murray Unitarian Universalist Church - ECPv6.15.20//NONSGML v1.0//EN
CALSCALE:GREGORIAN
METHOD:PUBLISH
X-ORIGINAL-URL:https://murrayuuchurch.org
X-WR-CALDESC:Events for Murray Unitarian Universalist Church
REFRESH-INTERVAL;VALUE=DURATION:PT1H
X-Robots-Tag:noindex
X-PUBLISHED-TTL:PT1H
BEGIN:VTIMEZONE
TZID:America/New_York
BEGIN:DAYLIGHT
TZOFFSETFROM:-0500
TZOFFSETTO:-0400
TZNAME:EDT
DTSTART:20250309T070000
END:DAYLIGHT
BEGIN:STANDARD
TZOFFSETFROM:-0400
TZOFFSETTO:-0500
TZNAME:EST
DTSTART:20251102T060000
END:STANDARD
BEGIN:DAYLIGHT
TZOFFSETFROM:-0500
TZOFFSETTO:-0400
TZNAME:EDT
DTSTART:20260308T070000
END:DAYLIGHT
BEGIN:STANDARD
TZOFFSETFROM:-0400
TZOFFSETTO:-0500
TZNAME:EST
DTSTART:20261101T060000
END:STANDARD
BEGIN:DAYLIGHT
TZOFFSETFROM:-0500
TZOFFSETTO:-0400
TZNAME:EDT
DTSTART:20270314T070000
END:DAYLIGHT
BEGIN:STANDARD
TZOFFSETFROM:-0400
TZOFFSETTO:-0500
TZNAME:EST
DTSTART:20271107T060000
END:STANDARD
END:VTIMEZONE
BEGIN:VEVENT
DTSTART;TZID=America/New_York:20260206T180000
DTEND;TZID=America/New_York:20260206T200000
DTSTAMP:20260420T194733
CREATED:20260115T162023Z
LAST-MODIFIED:20260115T192002Z
UID:242308-1770400800-1770408000@murrayuuchurch.org
SUMMARY:Teen Game Night
DESCRIPTION:Teen Game Night\nFriday\, February 6\, 6:00–8:00 PM \nWho: Teens (grades 8–12) \nTeens\, get ready for an awesome night of games\, laughter\, and community! Join us for Teen Night featuring a Mario Kart™ Nintendo Playoff\, where friendly competition meets great fellowship.\n What to Expect:\n\nMario Kart playoff tournament\nNintendo console racing action\nBrackets leading to a championship round\nPrizes for top racers\nMusic\, snacks\, and hangout time\n\nCome ready to race\, cheer each other on\, and enjoy a fun night together. \nPlease RSVP\nUse the form below. Murray Unitarian Universalist Church celebrates the inherent worthiness of each person and values respect\, honesty\, equity\, justice\, diversity\, kindness\, and compassion. Friends and neighbors are welcome! \n\n\n  \n\n\n\n Your name\n \n \n Your email\n \n \n RSVP/Message\n \n \nSubmit
URL:https://murrayuuchurch.org/muuc-event/teen-game-night/
LOCATION:Unity Room\, 505 N Main St\, Attleboro\, MA\, 02703\, United States
CATEGORIES:Family Fellowship
ATTACH;FMTTYPE=image/jpeg:https://murrayuuchurch.org/wp-content/uploads/2026/01/Teen-Night-Feb-6_1.jpg
ORGANIZER;CN="Murray Unitarian Universalist Church":MAILTO:office@murrayuuchurch.org
END:VEVENT
BEGIN:VEVENT
DTSTART;TZID=America/New_York:20260206T180000
DTEND;TZID=America/New_York:20260206T200000
DTSTAMP:20260420T194733
CREATED:20260122T163608Z
LAST-MODIFIED:20260122T163701Z
UID:242347-1770400800-1770408000@murrayuuchurch.org
SUMMARY:Family Fun Night at Church
DESCRIPTION:Bring the whole family and join us for a relaxed\, joy-filled evening together!\nFriday\, February 6\, 6:00–8:00 PM\nFor Kids:\n\nCrafts\nGames\nImaginative play and creative fun\n\nFor Parents:\n\nTime to connect and socialize\nA welcoming\, low-key space to unwind while kids play\n\nThis church social is designed for families of all ages—come build community\, make memories\, and enjoy a fun night out together. \nMurray Unitarian Universalist Church celebrates the inherent worthiness of each person and values respect\, honesty\, equity\, justice\, diversity\, kindness\, and compassion. \nFriends and neighbors are welcome\, please RSVP\n\n\n  \n\n\n\n Your name\n \n \n Your email\n \n \n RSVP/Message\n \n \nSubmit
URL:https://murrayuuchurch.org/muuc-event/family-fun-night-at-church/
LOCATION:Unity Room\, 505 N Main St\, Attleboro\, MA\, 02703\, United States
CATEGORIES:Family Fellowship,Inside
ATTACH;FMTTYPE=image/jpeg:https://murrayuuchurch.org/wp-content/uploads/2026/01/Family-Fun-Fellowship.jpg
ORGANIZER;CN="Murray Unitarian Universalist Church":MAILTO:office@murrayuuchurch.org
END:VEVENT
END:VCALENDAR