BEGIN:VCALENDAR
VERSION:2.0
PRODID:-//Murray Unitarian Universalist Church - ECPv6.15.20//NONSGML v1.0//EN
CALSCALE:GREGORIAN
METHOD:PUBLISH
X-WR-CALNAME:Murray Unitarian Universalist Church
X-ORIGINAL-URL:https://murrayuuchurch.org
X-WR-CALDESC:Events for Murray Unitarian Universalist Church
REFRESH-INTERVAL;VALUE=DURATION:PT1H
X-Robots-Tag:noindex
X-PUBLISHED-TTL:PT1H
BEGIN:VTIMEZONE
TZID:America/New_York
BEGIN:DAYLIGHT
TZOFFSETFROM:-0500
TZOFFSETTO:-0400
TZNAME:EDT
DTSTART:20250309T070000
END:DAYLIGHT
BEGIN:STANDARD
TZOFFSETFROM:-0400
TZOFFSETTO:-0500
TZNAME:EST
DTSTART:20251102T060000
END:STANDARD
BEGIN:DAYLIGHT
TZOFFSETFROM:-0500
TZOFFSETTO:-0400
TZNAME:EDT
DTSTART:20260308T070000
END:DAYLIGHT
BEGIN:STANDARD
TZOFFSETFROM:-0400
TZOFFSETTO:-0500
TZNAME:EST
DTSTART:20261101T060000
END:STANDARD
BEGIN:DAYLIGHT
TZOFFSETFROM:-0500
TZOFFSETTO:-0400
TZNAME:EDT
DTSTART:20270314T070000
END:DAYLIGHT
BEGIN:STANDARD
TZOFFSETFROM:-0400
TZOFFSETTO:-0500
TZNAME:EST
DTSTART:20271107T060000
END:STANDARD
END:VTIMEZONE
BEGIN:VEVENT
DTSTART;TZID=America/New_York:20260215T100000
DTEND;TZID=America/New_York:20260215T110000
DTSTAMP:20260420T181337
CREATED:20260205T154148Z
LAST-MODIFIED:20260205T214417Z
UID:242431-1771149600-1771153200@murrayuuchurch.org
SUMMARY:Good Trouble
DESCRIPTION:Sunday\, February 15\, 2026\nLed by the Religious Services Committee \n“Good Trouble” refers to collective disruption that challenges injustice and promotes social change. The term was popularized by John Lewis\, who encouraged people to advocate for equality and justice\, even if it meant being labeled a troublemaker. Good trouble embodies the spirit of non-violent civil disobedience aimed at creating positive social transformation. \n\nService begins at 10 a.m. This is a hybrid service. Join us in the sanctuary or log on to Zoom from the comfort and safety of your own home to participate in our worship experience. Service ends at 11 a.m.\, followed by coffee and fellowship. \nWe are a certified Welcoming Congregation and Green Sanctuary
URL:https://murrayuuchurch.org/muuc-event/good-trouble/
LOCATION:Sanctuary\, Murray UU Church\, 505 N. Main St.\, Attleboro\, MA\, 02703\, United States
CATEGORIES:Sunday Worship
ATTACH;FMTTYPE=image/jpeg:https://murrayuuchurch.org/wp-content/uploads/2022/10/Generic-Chalice-1200x628-02.jpg
ORGANIZER;CN="Murray Unitarian Universalist Church":MAILTO:office@murrayuuchurch.org
END:VEVENT
END:VCALENDAR