BEGIN:VCALENDAR
VERSION:2.0
PRODID:-//Murray Unitarian Universalist Church - ECPv6.15.20//NONSGML v1.0//EN
CALSCALE:GREGORIAN
METHOD:PUBLISH
X-WR-CALNAME:Murray Unitarian Universalist Church
X-ORIGINAL-URL:https://murrayuuchurch.org
X-WR-CALDESC:Events for Murray Unitarian Universalist Church
REFRESH-INTERVAL;VALUE=DURATION:PT1H
X-Robots-Tag:noindex
X-PUBLISHED-TTL:PT1H
BEGIN:VTIMEZONE
TZID:America/New_York
BEGIN:DAYLIGHT
TZOFFSETFROM:-0500
TZOFFSETTO:-0400
TZNAME:EDT
DTSTART:20250309T070000
END:DAYLIGHT
BEGIN:STANDARD
TZOFFSETFROM:-0400
TZOFFSETTO:-0500
TZNAME:EST
DTSTART:20251102T060000
END:STANDARD
BEGIN:DAYLIGHT
TZOFFSETFROM:-0500
TZOFFSETTO:-0400
TZNAME:EDT
DTSTART:20260308T070000
END:DAYLIGHT
BEGIN:STANDARD
TZOFFSETFROM:-0400
TZOFFSETTO:-0500
TZNAME:EST
DTSTART:20261101T060000
END:STANDARD
BEGIN:DAYLIGHT
TZOFFSETFROM:-0500
TZOFFSETTO:-0400
TZNAME:EDT
DTSTART:20270314T070000
END:DAYLIGHT
BEGIN:STANDARD
TZOFFSETFROM:-0400
TZOFFSETTO:-0500
TZNAME:EST
DTSTART:20271107T060000
END:STANDARD
END:VTIMEZONE
BEGIN:VEVENT
DTSTART;TZID=America/New_York:20260315T100000
DTEND;TZID=America/New_York:20260315T110000
DTSTAMP:20260420T225432
CREATED:20260305T231700Z
LAST-MODIFIED:20260305T231819Z
UID:242535-1773568800-1773572400@murrayuuchurch.org
SUMMARY:Paying Attention to One Another
DESCRIPTION:Sunday\, March 15\, 2026\nLed by Rev. F. Vernon Wright V \nListening is one of those over-used words. We all think we know what it is until we are forced to really do it. Truly listening is difficult\, but it is also a transformative art if done with compassion and presence. \n\nService begins at 10 a.m. This is a hybrid service. Join us in the sanctuary or log on to Zoom from the comfort and safety of your own home to participate in our worship experience. Service ends at 11 a.m.\, followed by coffee and fellowship. \nWe are a certified Welcoming Congregation and Green Sanctuary
URL:https://murrayuuchurch.org/muuc-event/paying-attention-to-one-another/
LOCATION:Sanctuary\, Murray UU Church\, 505 N. Main St.\, Attleboro\, MA\, 02703\, United States
CATEGORIES:Sunday Worship
ATTACH;FMTTYPE=image/jpeg:https://murrayuuchurch.org/wp-content/uploads/2025/01/MUU-1200x628_Green-Orange.jpg
ORGANIZER;CN="Murray Unitarian Universalist Church":MAILTO:office@murrayuuchurch.org
END:VEVENT
BEGIN:VEVENT
DTSTART;TZID=America/New_York:20260315T140000
DTEND;TZID=America/New_York:20260315T163000
DTSTAMP:20260420T225432
CREATED:20260305T230327Z
LAST-MODIFIED:20260305T230629Z
UID:242532-1773583200-1773592200@murrayuuchurch.org
SUMMARY:Celebrating America's 250th
DESCRIPTION:Member Recital Celebrating America at 250\nSunday\, March 15\, 2026\, 2 pm.\nFeaturing Chaminade Schubert Artists: \n\nLinda Barbieri\, soprano\nThomas Conrad\, flute\nAnn Sears\, piano\nSara Michale Smith\, soprano\nManabu Takasawa\, piano\nGary Theis\, baritone
URL:https://murrayuuchurch.org/muuc-event/celebrating-americas-250th/
LOCATION:Sanctuary\, Murray UU Church\, 505 N. Main St.\, Attleboro\, MA\, 02703\, United States
CATEGORIES:Inside
ATTACH;FMTTYPE=image/png:https://murrayuuchurch.org/wp-content/uploads/2021/10/Chaminade-Music-Club-logo.png
END:VEVENT
END:VCALENDAR