BEGIN:VCALENDAR
VERSION:2.0
PRODID:-//Murray Unitarian Universalist Church - ECPv6.15.20//NONSGML v1.0//EN
CALSCALE:GREGORIAN
METHOD:PUBLISH
X-WR-CALNAME:Murray Unitarian Universalist Church
X-ORIGINAL-URL:https://murrayuuchurch.org
X-WR-CALDESC:Events for Murray Unitarian Universalist Church
REFRESH-INTERVAL;VALUE=DURATION:PT1H
X-Robots-Tag:noindex
X-PUBLISHED-TTL:PT1H
BEGIN:VTIMEZONE
TZID:America/New_York
BEGIN:DAYLIGHT
TZOFFSETFROM:-0500
TZOFFSETTO:-0400
TZNAME:EDT
DTSTART:20250309T070000
END:DAYLIGHT
BEGIN:STANDARD
TZOFFSETFROM:-0400
TZOFFSETTO:-0500
TZNAME:EST
DTSTART:20251102T060000
END:STANDARD
BEGIN:DAYLIGHT
TZOFFSETFROM:-0500
TZOFFSETTO:-0400
TZNAME:EDT
DTSTART:20260308T070000
END:DAYLIGHT
BEGIN:STANDARD
TZOFFSETFROM:-0400
TZOFFSETTO:-0500
TZNAME:EST
DTSTART:20261101T060000
END:STANDARD
BEGIN:DAYLIGHT
TZOFFSETFROM:-0500
TZOFFSETTO:-0400
TZNAME:EDT
DTSTART:20270314T070000
END:DAYLIGHT
BEGIN:STANDARD
TZOFFSETFROM:-0400
TZOFFSETTO:-0500
TZNAME:EST
DTSTART:20271107T060000
END:STANDARD
END:VTIMEZONE
BEGIN:VEVENT
DTSTART;TZID=America/New_York:20260228T180000
DTEND;TZID=America/New_York:20260228T210000
DTSTAMP:20260421T180256
CREATED:20260216T031957Z
LAST-MODIFIED:20260216T033106Z
UID:242459-1772301600-1772312400@murrayuuchurch.org
SUMMARY:Potluck and a Documentary
DESCRIPTION:Hello\, Privilege. It’s Me\, Chelsea\nSaturday\, February 28\, 6 to 9 in the Unity Room\nThe pleasure is all Chelsea’s. “Hello\, Privilege. It’s Me\, Chelsea” follows comedian Chelsea Handler as she confronts and explores her personal and cultural impacts around white privilege. Handler travels around the country speaking with a wide range of people on the topic of race including fellow comedians Kevin Hart\, Tiffany Haddish\, and W. Kamau Bell\, anti-racism writer and activist Tim Wise\, a Republican women’s group in Orange County\, CA\, college students at an open mic night\, and her former high school boyfriend in New Jersey. \nView the TRAILER (1 hour\, Netflix\, 2019) \nDiscussion following the documentary. \n\n  \nUse the RSVP button below to let us know you’re attending and what dish you will be bringing.\nRSVP
URL:https://murrayuuchurch.org/muuc-event/potluck-and-a-documentary/
LOCATION:Unity Room\, 505 N Main St\, Attleboro\, MA\, 02703\, United States
CATEGORIES:Inside
ATTACH;FMTTYPE=image/jpeg:https://murrayuuchurch.org/wp-content/uploads/2026/02/Hello-Privilge-Chelsea-Handler.jpg
ORGANIZER;CN="Murray Unitarian Universalist Church":MAILTO:office@murrayuuchurch.org
END:VEVENT
BEGIN:VEVENT
DTSTART;TZID=America/New_York:20260307T100000
DTEND;TZID=America/New_York:20260307T150000
DTSTAMP:20260421T180256
CREATED:20260116T165834Z
LAST-MODIFIED:20260127T141239Z
UID:242327-1772877600-1772895600@murrayuuchurch.org
SUMMARY:Holistic Fair 2026
DESCRIPTION:Discover Your Path to Wellness\nSaturday\, March 7 from 10 to 3\, featuring vendors\, readers\, practitioners\nJoin us for a day of exploration and connection at the Holistic Fair\, where we celebrate the interconnectedness of mind\, body\, and spirit.\nExplore a vibrant marketplace of holistic offerings:\n\nUnique Vendors: Discover handcrafted treasures\, crystals\, jewelry\, aromatherapy\, and more to support your well-being.\nIntuitive Readers: Gain insights and guidance from talented tarot readers\, astrologers\, energy readers\, and more..\nSkilled Practitioners: Experience the healing touch of reiki\, massage\, reflexology\, and other modalities.\n\nPlus:\n\nDelicious Concessions: Enjoy treats and refreshments.\nSupportive Community: Connect with like-minded individuals on a journey of self-discovery.\n\n $5 Admission (proceeds support Murray Unitarian Universalist Church and its programs)\nAt Murray Unitarian Universalist Church\, we embrace inclusivity and honor the inherent worth and dignity of every person. Our Holistic Fair reflects these values by creating a welcoming space for all to explore diverse paths to wellness. \nDon’t miss this opportunity to nurture your whole self and connect with our vibrant community!
URL:https://murrayuuchurch.org/muuc-event/holistic-fair-2026/
LOCATION:MA
CATEGORIES:Inside
ATTACH;FMTTYPE=image/jpeg:https://murrayuuchurch.org/wp-content/uploads/2026/01/2026-MUUC-Holistic-Fair.jpg
ORGANIZER;CN="Events at Murray UU Church":MAILTO:events@murrayuuchurch.org
END:VEVENT
BEGIN:VEVENT
DTSTART;TZID=America/New_York:20260315T140000
DTEND;TZID=America/New_York:20260315T163000
DTSTAMP:20260421T180256
CREATED:20260305T230327Z
LAST-MODIFIED:20260305T230629Z
UID:242532-1773583200-1773592200@murrayuuchurch.org
SUMMARY:Celebrating America's 250th
DESCRIPTION:Member Recital Celebrating America at 250\nSunday\, March 15\, 2026\, 2 pm.\nFeaturing Chaminade Schubert Artists: \n\nLinda Barbieri\, soprano\nThomas Conrad\, flute\nAnn Sears\, piano\nSara Michale Smith\, soprano\nManabu Takasawa\, piano\nGary Theis\, baritone
URL:https://murrayuuchurch.org/muuc-event/celebrating-americas-250th/
LOCATION:Sanctuary\, Murray UU Church\, 505 N. Main St.\, Attleboro\, MA\, 02703\, United States
CATEGORIES:Inside
ATTACH;FMTTYPE=image/png:https://murrayuuchurch.org/wp-content/uploads/2021/10/Chaminade-Music-Club-logo.png
END:VEVENT
BEGIN:VEVENT
DTSTART;TZID=America/New_York:20260328T180000
DTEND;TZID=America/New_York:20260328T210000
DTSTAMP:20260421T180256
CREATED:20260302T174134Z
LAST-MODIFIED:20260302T174340Z
UID:242516-1774720800-1774731600@murrayuuchurch.org
SUMMARY:Friends and Family Karaoke Night
DESCRIPTION:Saturday\, March 28\, 6:00–9:00 pm\nMurray’s friends and family are invited to a free evening of fun\, food\, and music\n\nPizza and soft drinks provided. Wine available for a donation.\nYouth karaoke: 6:00–7:00 pm\nAfter 7:00 pm\, children will retire to the Unity Room for supervised entertainment.\n\nThis night is guaranteed to be entertaining\, so come ready to sing\, cheer\, and laugh—and be sure to invite your family and friends! Sign-ups have begun at coffee hour\, so we know how many people to plan for. \nChildcare can be provided while adults enjoy an open mic for songs and other talents. Please get in touch with us if you need childcare.
URL:https://murrayuuchurch.org/muuc-event/friends-and-family-karaoke-night/
LOCATION:Fellowship Hall\, Murray UU Church\, 505 N Main St\, Attleboro\, MA\, 02703\, United States
CATEGORIES:Inside
ATTACH;FMTTYPE=image/jpeg:https://murrayuuchurch.org/wp-content/uploads/2023/02/Karaoke-Night-Art.jpg
ORGANIZER;CN="Murray Unitarian Universalist Church":MAILTO:office@murrayuuchurch.org
END:VEVENT
BEGIN:VEVENT
DTSTART;TZID=America/New_York:20260411T180000
DTEND;TZID=America/New_York:20260411T213000
DTSTAMP:20260421T180256
CREATED:20260407T223839Z
LAST-MODIFIED:20260410T142421Z
UID:242650-1775930400-1775943000@murrayuuchurch.org
SUMMARY:Potluck and a Movie
DESCRIPTION:JOIN or DIE\nA film about why you should join a club …and why the fate of America depends on it.\nSaturday\, April 11\, 6 to 9:30 pm in the Unity Room\nJoin or Die is a film about why you should join a club—and why the fate of America depends on it. \nFollow the story of America’s civic unraveling through the journey of Robert Putnam\, whose legendary “Bowling Alone” research into American community decline may hold the answers to our democracy’s present crisis. \nIn this feature documentary\, follow the half-century story of America’s civic unraveling through the journey of legendary social scientist Robert Putnam\, whose groundbreaking “Bowling Alone” research into America’s decades-long decline in community connections could hold the answers to our democracy’s present crisis. Flanked by influential fans and scholars — from Hillary Clinton\, Pete Buttigieg\, and Surgeon General Vivek Murthy to Eddie Glaude Jr.\, Raj Chetty\, and Priya Parker — as well as inspiring groups building community in neighborhoods across the country\, join Bob as he explores three urgent civic questions: What makes democracy work? Why is American democracy in crisis? And\, most importantly… What can we do about it? \nJoin us for this educational viewing with a discussion following. \nUse this Form to RSVP with what dish you will bring \nWatch the Trailer\n\nGo to the JOIN or DIE website to READ MORE
URL:https://murrayuuchurch.org/muuc-event/potluck-and-a-movie/
LOCATION:Unity Room\, 505 N Main St\, Attleboro\, MA\, 02703\, United States
CATEGORIES:Inside
ATTACH;FMTTYPE=image/jpeg:https://murrayuuchurch.org/wp-content/uploads/2026/04/JOINorDIE-art.jpg
ORGANIZER;CN="Murray Unitarian Universalist Church":MAILTO:office@murrayuuchurch.org
END:VEVENT
BEGIN:VEVENT
DTSTART;TZID=America/New_York:20260429T100000
DTEND;TZID=America/New_York:20260429T110000
DTSTAMP:20260421T180256
CREATED:20260401T234103Z
LAST-MODIFIED:20260401T234240Z
UID:242626-1777456800-1777460400@murrayuuchurch.org
SUMMARY:Circle of Friends
DESCRIPTION:Story & Playtime\nLooking for a joyful\, inclusive space for your little one—and a place for you to connect\, too?\nJoin our Spring Playgroup\n\nStories\, play\, new friendships\, and an introduction to our shared values.\nOpen to children up to 6 years old and their caregivers.\nWednesdays at 10 am starting April 29\n\nRSVP by email\, see below.
URL:https://murrayuuchurch.org/muuc-event/circle-of-friends/
LOCATION:Fellowship Hall\, Murray UU Church\, 505 N Main St\, Attleboro\, MA\, 02703\, United States
CATEGORIES:Inside
ATTACH;FMTTYPE=image/jpeg:https://murrayuuchurch.org/wp-content/uploads/2026/04/Circle-of-Friends-Playgroup.jpg
ORGANIZER;CN="Religious Exploration":MAILTO:dlre@murrayuuchurch.org
END:VEVENT
BEGIN:VEVENT
DTSTART;TZID=America/New_York:20260503T120000
DTEND;TZID=America/New_York:20260503T150000
DTSTAMP:20260421T180256
CREATED:20260401T230704Z
LAST-MODIFIED:20260401T233614Z
UID:242619-1777809600-1777820400@murrayuuchurch.org
SUMMARY:Spring Clothing Swap
DESCRIPTION:Babies\, Kids\, and Teens\nHow it works\nDonate:\n\nApril 19 and May 2\, from 11:30 am to 2 pm\n\nShop:\n\nDonors shop first on May 3 at 11:30 am\nFree & Open to the public from 12:00 to 3 pm\n\nDonation Guidelines\n\nClean clothing in good condition\nBag items by size and gender\nNo damaged\, stained\, or heavily worn items\nItems for babies\, children\, and teens only\n\nEmail us with any questions\, see below.
URL:https://murrayuuchurch.org/muuc-event/spring-clothing-swap/
LOCATION:Fellowship Hall\, Murray UU Church\, 505 N Main St\, Attleboro\, MA\, 02703\, United States
CATEGORIES:Inside
ATTACH;FMTTYPE=image/jpeg:https://murrayuuchurch.org/wp-content/uploads/2026/04/Spring-Clothing-Swap.jpg
ORGANIZER;CN="Religious Exploration":MAILTO:dlre@murrayuuchurch.org
END:VEVENT
END:VCALENDAR