BEGIN:VCALENDAR
VERSION:2.0
PRODID:-//Murray Unitarian Universalist Church - ECPv6.15.20//NONSGML v1.0//EN
CALSCALE:GREGORIAN
METHOD:PUBLISH
X-WR-CALNAME:Murray Unitarian Universalist Church
X-ORIGINAL-URL:https://murrayuuchurch.org
X-WR-CALDESC:Events for Murray Unitarian Universalist Church
REFRESH-INTERVAL;VALUE=DURATION:PT1H
X-Robots-Tag:noindex
X-PUBLISHED-TTL:PT1H
BEGIN:VTIMEZONE
TZID:America/New_York
BEGIN:DAYLIGHT
TZOFFSETFROM:-0500
TZOFFSETTO:-0400
TZNAME:EDT
DTSTART:20250309T070000
END:DAYLIGHT
BEGIN:STANDARD
TZOFFSETFROM:-0400
TZOFFSETTO:-0500
TZNAME:EST
DTSTART:20251102T060000
END:STANDARD
BEGIN:DAYLIGHT
TZOFFSETFROM:-0500
TZOFFSETTO:-0400
TZNAME:EDT
DTSTART:20260308T070000
END:DAYLIGHT
BEGIN:STANDARD
TZOFFSETFROM:-0400
TZOFFSETTO:-0500
TZNAME:EST
DTSTART:20261101T060000
END:STANDARD
BEGIN:DAYLIGHT
TZOFFSETFROM:-0500
TZOFFSETTO:-0400
TZNAME:EDT
DTSTART:20270314T070000
END:DAYLIGHT
BEGIN:STANDARD
TZOFFSETFROM:-0400
TZOFFSETTO:-0500
TZNAME:EST
DTSTART:20271107T060000
END:STANDARD
END:VTIMEZONE
BEGIN:VEVENT
DTSTART;TZID=America/New_York:20260429T100000
DTEND;TZID=America/New_York:20260429T110000
DTSTAMP:20260424T133719
CREATED:20260401T234103Z
LAST-MODIFIED:20260401T234240Z
UID:242626-1777456800-1777460400@murrayuuchurch.org
SUMMARY:Circle of Friends
DESCRIPTION:Story & Playtime\nLooking for a joyful\, inclusive space for your little one—and a place for you to connect\, too?\nJoin our Spring Playgroup\n\nStories\, play\, new friendships\, and an introduction to our shared values.\nOpen to children up to 6 years old and their caregivers.\nWednesdays at 10 am starting April 29\n\nRSVP by email\, see below.
URL:https://murrayuuchurch.org/muuc-event/circle-of-friends/
LOCATION:Fellowship Hall\, Murray UU Church\, 505 N Main St\, Attleboro\, MA\, 02703\, United States
CATEGORIES:Inside
ATTACH;FMTTYPE=image/jpeg:https://murrayuuchurch.org/wp-content/uploads/2026/04/Circle-of-Friends-Playgroup.jpg
ORGANIZER;CN="Religious Exploration":MAILTO:dlre@murrayuuchurch.org
END:VEVENT
BEGIN:VEVENT
DTSTART;TZID=America/New_York:20260503T120000
DTEND;TZID=America/New_York:20260503T150000
DTSTAMP:20260424T133719
CREATED:20260401T230704Z
LAST-MODIFIED:20260401T233614Z
UID:242619-1777809600-1777820400@murrayuuchurch.org
SUMMARY:Spring Clothing Swap
DESCRIPTION:Babies\, Kids\, and Teens\nHow it works\nDonate:\n\nApril 19 and May 2\, from 11:30 am to 2 pm\n\nShop:\n\nDonors shop first on May 3 at 11:30 am\nFree & Open to the public from 12:00 to 3 pm\n\nDonation Guidelines\n\nClean clothing in good condition\nBag items by size and gender\nNo damaged\, stained\, or heavily worn items\nItems for babies\, children\, and teens only\n\nEmail us with any questions\, see below.
URL:https://murrayuuchurch.org/muuc-event/spring-clothing-swap/
LOCATION:Fellowship Hall\, Murray UU Church\, 505 N Main St\, Attleboro\, MA\, 02703\, United States
CATEGORIES:Inside
ATTACH;FMTTYPE=image/jpeg:https://murrayuuchurch.org/wp-content/uploads/2026/04/Spring-Clothing-Swap.jpg
ORGANIZER;CN="Religious Exploration":MAILTO:dlre@murrayuuchurch.org
END:VEVENT
BEGIN:VEVENT
DTSTART;TZID=America/New_York:20260509T180000
DTEND;TZID=America/New_York:20260509T213000
DTSTAMP:20260424T133719
CREATED:20260424T025637Z
LAST-MODIFIED:20260424T030359Z
UID:242713-1778349600-1778362200@murrayuuchurch.org
SUMMARY:Conspiracy
DESCRIPTION:Potluck and a Movie\nHoping to cut down on meat consumption for health reasons? Maybe you’d like to incorporate economical\, meatless Mondays into your week\, or better understand the social consequences of our diet. \nPlease join us on May 9\, 2026\, at 6:00 in the Unity Room for a veggie-forward potluck and a viewing of the film\, “Cowspiracy.” This powerful documentary reveals some very surprising facts about the environmental impact and societal costs of raising so many animals for food. \nIf possible\, please bring a plant-based dish to share. These websites offer delicious vegetarian and vegan recipes: \n\nPlant Docs\nLove and Lemons\nRainbow Plant Life\n\nUse the button below to RSVP \nRSVP
URL:https://murrayuuchurch.org/muuc-event/conspiracy/
LOCATION:Unity Room\, 505 N Main St\, Attleboro\, MA\, 02703\, United States
CATEGORIES:Inside
ATTACH;FMTTYPE=image/jpeg:https://murrayuuchurch.org/wp-content/uploads/2026/04/Cowspircy-Potluck.jpg
ORGANIZER;CN="Murray Unitarian Universalist Church":MAILTO:office@murrayuuchurch.org
END:VEVENT
END:VCALENDAR