BEGIN:VCALENDAR
VERSION:2.0
PRODID:-//Murray Unitarian Universalist Church - ECPv6.15.20//NONSGML v1.0//EN
CALSCALE:GREGORIAN
METHOD:PUBLISH
X-ORIGINAL-URL:https://murrayuuchurch.org
X-WR-CALDESC:Events for Murray Unitarian Universalist Church
REFRESH-INTERVAL;VALUE=DURATION:PT1H
X-Robots-Tag:noindex
X-PUBLISHED-TTL:PT1H
BEGIN:VTIMEZONE
TZID:America/New_York
BEGIN:DAYLIGHT
TZOFFSETFROM:-0500
TZOFFSETTO:-0400
TZNAME:EDT
DTSTART:20240310T070000
END:DAYLIGHT
BEGIN:STANDARD
TZOFFSETFROM:-0400
TZOFFSETTO:-0500
TZNAME:EST
DTSTART:20241103T060000
END:STANDARD
BEGIN:DAYLIGHT
TZOFFSETFROM:-0500
TZOFFSETTO:-0400
TZNAME:EDT
DTSTART:20250309T070000
END:DAYLIGHT
BEGIN:STANDARD
TZOFFSETFROM:-0400
TZOFFSETTO:-0500
TZNAME:EST
DTSTART:20251102T060000
END:STANDARD
BEGIN:DAYLIGHT
TZOFFSETFROM:-0500
TZOFFSETTO:-0400
TZNAME:EDT
DTSTART:20260308T070000
END:DAYLIGHT
BEGIN:STANDARD
TZOFFSETFROM:-0400
TZOFFSETTO:-0500
TZNAME:EST
DTSTART:20261101T060000
END:STANDARD
END:VTIMEZONE
BEGIN:VEVENT
DTSTART;TZID=America/New_York:20250706T100000
DTEND;TZID=America/New_York:20250706T110000
DTSTAMP:20260421T130750
CREATED:20250530T164000Z
LAST-MODIFIED:20250704T142240Z
UID:241438-1751796000-1751799600@murrayuuchurch.org
SUMMARY:Resisting the Erasure of History
DESCRIPTION:Summer Service\nResisting the Erasure of History\nLed by Monica Staaf \nSince ancient times\, tyrants have attempted to rewrite history to strengthen their control. Now\, we are experiencing a purge of literature and policies relating to slavery\, discrimination\, diversity\, equity\, inclusion\, and other issues that offend the powerful. We’ll explore the importance of remembering our past\, good and bad\, as a spiritual act. \n\nSummer services begin at 10 am. This is an online service\, log on to Zoom from wherever you are to participate in our worship experience. \nWatch the Summer Sunday Online Service in the Unity Room\nJoin your Murray friends this Sunday\, July 6\, and the following Sunday\, July 13\, 10-11 am\, followed by conversation \nBring your own beverage. Murray tech support and child care are NOT available \nThis is an experiment. We’ll see how it goes and plan for future summer Sundays after these two sessions. \n\nWe are a certified Welcoming Congregation and Green Sanctuary
URL:https://murrayuuchurch.org/muuc-event/resisting-erasure/
LOCATION:MA
CATEGORIES:Summer Services,Sunday Worship
ATTACH;FMTTYPE=image/jpeg:https://murrayuuchurch.org/wp-content/uploads/2025/01/MUU-1200x628_Purple-Orange.jpg
END:VEVENT
BEGIN:VEVENT
DTSTART;TZID=America/New_York:20250713T100000
DTEND;TZID=America/New_York:20250713T110000
DTSTAMP:20260421T130750
CREATED:20250530T171508Z
LAST-MODIFIED:20250704T142446Z
UID:241441-1752400800-1752404400@murrayuuchurch.org
SUMMARY:Which Love?
DESCRIPTION:Summer Service\nWhich Love?\nLed by Justin Keith \nLove means many things to many people. It also means many things to one person. Like a parking spot in a strip mall with many stores\, which spot is right for you? \n\nSummer services begin at 10 am. This is an online service\, log on to Zoom from wherever you are to participate in our worship experience. \nWatch the Summer Sunday Online Service in the Unity Room\nJoin your Murray friends 10-11 am\, followed by conversation \nBring your own beverage. Murray tech support and child care are NOT available \nThis is an experiment. We’ll see how it goes and plan for future summer Sundays after these two sessions. \n\nWe are a certified Welcoming Congregation and Green Sanctuary
URL:https://murrayuuchurch.org/muuc-event/which-love/
LOCATION:MA
CATEGORIES:Summer Services,Sunday Worship
ATTACH;FMTTYPE=image/jpeg:https://murrayuuchurch.org/wp-content/uploads/2025/06/Which-Love.jpg
ORGANIZER;CN="Murray Unitarian Universalist Church":MAILTO:office@murrayuuchurch.org
END:VEVENT
BEGIN:VEVENT
DTSTART;TZID=America/New_York:20250720T100000
DTEND;TZID=America/New_York:20250720T110000
DTSTAMP:20260421T130750
CREATED:20250530T173031Z
LAST-MODIFIED:20250717T175430Z
UID:241449-1753005600-1753009200@murrayuuchurch.org
SUMMARY:Meet the Moment: General Assembly
DESCRIPTION:Summer Service\nMeet the Moment: General Assembly 2025\nLed by Emily Weiland \nIn this sometimes difficult year\, it can be revitalizing to know what is happening with Unitarian Universalist congregations across the country that share our values and\, like us\, strive for justice. Join this Sunday service to learn about the 2025 “Meet the Moment” General Assembly\, featuring reflections by Carol Konvalink-Connolly\, Bruce Field\, Lauralyn Smith\, and Emily Weiland. \n\nWatch the Summer Sunday Online Service in the Unity Room\nJoin your Murray friends from 10-11 am\, followed by conversation \nBring your own beverage. Murray tech support and child care are NOT available \nThis is an experiment. It’s going well. We’ll see how it goes and plan for future Sunday sessions in the summer. \n\nSummer services begin at 10 am. This is an online service; log on to Zoom from wherever you are to participate in our worship experience. \nWe are a certified Welcoming Congregation and Green Sanctuary
URL:https://murrayuuchurch.org/muuc-event/meet-the-moment-general-assembly/
LOCATION:MA
CATEGORIES:Summer Services,Sunday Worship
ATTACH;FMTTYPE=image/jpeg:https://murrayuuchurch.org/wp-content/uploads/2025/07/GA-MeetTM.jpeg
ORGANIZER;CN="Murray Unitarian Universalist Church":MAILTO:office@murrayuuchurch.org
END:VEVENT
BEGIN:VEVENT
DTSTART;TZID=America/New_York:20250727T100000
DTEND;TZID=America/New_York:20250727T110000
DTSTAMP:20260421T130751
CREATED:20250530T173932Z
LAST-MODIFIED:20250729T155318Z
UID:241453-1753610400-1753614000@murrayuuchurch.org
SUMMARY:Fundraising with a Mission
DESCRIPTION:Summer Service\nMurray Thrift Shop: Fundraising with a Mission\nLed by the Murray Church Thrift Shop \nFor five years\, the Murray Thrift Shop has been growing. Every Saturday\, we have delighted customers\, offered bargains\, helped our community\, reduced waste in our landfills\, and had so much fun!  Come find out what inspires our volunteers and customers to keep coming back. \n\nAll Church Cookout\nAll are welcome to an all-church cookout: hamburgers (meat and vegetarian)\, hot dogs\, chips\, and salad. It will be held outside following the service\, in the backyard\, weather permitting. If not\, we will move it into  Fellowship Hall \n\nSummer Services begin at 10 am. This is an in-person service only. \nWe are a certified Welcoming Congregation and Green Sanctuary
URL:https://murrayuuchurch.org/muuc-event/fundraising-with-a-mission/
LOCATION:Sanctuary\, Murray UU Church\, 505 N. Main St.\, Attleboro\, MA\, 02703\, United States
CATEGORIES:Summer Services,Sunday Worship
ATTACH;FMTTYPE=image/jpeg:https://murrayuuchurch.org/wp-content/uploads/2025/06/Thrift-Shop-Interior-Fashion.jpg
ORGANIZER;CN="Murray Unitarian Universalist Church":MAILTO:office@murrayuuchurch.org
END:VEVENT
END:VCALENDAR