BEGIN:VCALENDAR
VERSION:2.0
PRODID:-//Murray Unitarian Universalist Church - ECPv6.15.20//NONSGML v1.0//EN
CALSCALE:GREGORIAN
METHOD:PUBLISH
X-ORIGINAL-URL:https://murrayuuchurch.org
X-WR-CALDESC:Events for Murray Unitarian Universalist Church
REFRESH-INTERVAL;VALUE=DURATION:PT1H
X-Robots-Tag:noindex
X-PUBLISHED-TTL:PT1H
BEGIN:VTIMEZONE
TZID:America/New_York
BEGIN:DAYLIGHT
TZOFFSETFROM:-0500
TZOFFSETTO:-0400
TZNAME:EDT
DTSTART:20240310T070000
END:DAYLIGHT
BEGIN:STANDARD
TZOFFSETFROM:-0400
TZOFFSETTO:-0500
TZNAME:EST
DTSTART:20241103T060000
END:STANDARD
BEGIN:DAYLIGHT
TZOFFSETFROM:-0500
TZOFFSETTO:-0400
TZNAME:EDT
DTSTART:20250309T070000
END:DAYLIGHT
BEGIN:STANDARD
TZOFFSETFROM:-0400
TZOFFSETTO:-0500
TZNAME:EST
DTSTART:20251102T060000
END:STANDARD
BEGIN:DAYLIGHT
TZOFFSETFROM:-0500
TZOFFSETTO:-0400
TZNAME:EDT
DTSTART:20260308T070000
END:DAYLIGHT
BEGIN:STANDARD
TZOFFSETFROM:-0400
TZOFFSETTO:-0500
TZNAME:EST
DTSTART:20261101T060000
END:STANDARD
END:VTIMEZONE
BEGIN:VEVENT
DTSTART;TZID=America/New_York:20250803T100000
DTEND;TZID=America/New_York:20250803T110000
DTSTAMP:20260421T115154
CREATED:20250530T174718Z
LAST-MODIFIED:20250729T155954Z
UID:241455-1754215200-1754218800@murrayuuchurch.org
SUMMARY:Revolutionary Spirituality
DESCRIPTION:Summer Service\nRevolutionary Spirituality\nLed by Evan Laferriere \nWhat is at the intersection of justice and sacredness? How do you connect the two\, and how have people done so in the past? \n\nSummer services begin at 10 am. This is an online service\, log on to Zoom from wherever you are to participate in our worship experience. \nWe are a certified Welcoming Congregation and Green Sanctuary
URL:https://murrayuuchurch.org/muuc-event/revolutionary-spirituality/
LOCATION:Online only\, United States
CATEGORIES:Summer Services,Sunday Worship
ATTACH;FMTTYPE=image/jpeg:https://murrayuuchurch.org/wp-content/uploads/2025/01/MUU-1200x628_Purple-Blue.jpg
ORGANIZER;CN="Murray Unitarian Universalist Church":MAILTO:office@murrayuuchurch.org
END:VEVENT
BEGIN:VEVENT
DTSTART;TZID=America/New_York:20250810T100000
DTEND;TZID=America/New_York:20250810T230000
DTSTAMP:20260421T115154
CREATED:20250530T175141Z
LAST-MODIFIED:20250806T160050Z
UID:241457-1754820000-1754866800@murrayuuchurch.org
SUMMARY:Kindred Spirits
DESCRIPTION:Summer Services\nKindred Spirits: Praying with L. M. Montgomery\nLed by Carol Konvalinka-Connolly \nCanadian author L.M. Montgomery wrote Anne of Green Gables and other novels about the life of an orphan girl\, Anne Shirely\, and her search for “kindred spirits”. Kindred Spirits are people who share a deep\, intrinsic connection based on mutual understanding\, empathy\, and shared values or interests.  Join me as we meditate on the wisdom of L. M. Montgomery as we search for pearls of wisdom in her narration and give thanks for kindred spirits. \n\nSummer services begin at 10 am. This is an online service; log on to Zoom from wherever you are to participate in our worship experience. \nWe are a certified Welcoming Congregation and Green Sanctuary
URL:https://murrayuuchurch.org/muuc-event/kindred-spirits/
LOCATION:Online only\, United States
CATEGORIES:Summer Services,Sunday Worship
ATTACH;FMTTYPE=image/jpeg:https://murrayuuchurch.org/wp-content/uploads/2025/01/MUU-1200x628_Orange-Yellow.jpg
ORGANIZER;CN="Murray Unitarian Universalist Church":MAILTO:office@murrayuuchurch.org
END:VEVENT
BEGIN:VEVENT
DTSTART;TZID=America/New_York:20250817T100000
DTEND;TZID=America/New_York:20250817T110000
DTSTAMP:20260421T115154
CREATED:20250530T175600Z
LAST-MODIFIED:20250807T150914Z
UID:241460-1755424800-1755428400@murrayuuchurch.org
SUMMARY:Philosophy
DESCRIPTION:Summer Service\nWhy Our Philosophy Is Important\nLed by Len Yutkins \nA brief survey of how our philosophy impacts everything we believe and do. \n\nSummer services begin at 10 am. This is an online service. Log on to Zoom from wherever you are to participate in our worship experience. \nWe are a certified Welcoming Congregation and Green Sanctuary
URL:https://murrayuuchurch.org/muuc-event/philosophy/
LOCATION:Online only\, United States
CATEGORIES:Summer Services,Sunday Worship
ATTACH;FMTTYPE=image/jpeg:https://murrayuuchurch.org/wp-content/uploads/2025/01/MUU-1200x628_Green-Orange.jpg
ORGANIZER;CN="Murray Unitarian Universalist Church":MAILTO:office@murrayuuchurch.org
END:VEVENT
BEGIN:VEVENT
DTSTART;TZID=America/New_York:20250824T100000
DTEND;TZID=America/New_York:20250824T110000
DTSTAMP:20260421T115154
CREATED:20250530T181541Z
LAST-MODIFIED:20250731T193416Z
UID:241463-1756029600-1756033200@murrayuuchurch.org
SUMMARY:Blessing of the Animals
DESCRIPTION:Summer Service\nBlessing of the Animals\nLed by Ruth Debrot\, Meg Lambert\, and Randy Larrivee \nJoin us for a live\, outdoor ceremony to give thanks and bless the companions in our lives — leashed or crated cats and dogs\, birds and chickens\, turtles and fish\, horses\, and so much more! We will acknowledge the ways that human lives are made fuller and richer by the creatures that inhabit the Earth with us. Feel free to bring your pets\, photos of pets\, and stuffed animals. \n\nSummer Services are lay-led and begin at 10 am. This is an in-person service only\, in the grassy area behind the church. \nWe are a certified Welcoming Congregation and Green Sanctuary
URL:https://murrayuuchurch.org/muuc-event/blessing-of-the-animals/
LOCATION:Outside\, Murray UU Church\, 505 North Main St\, Attleboro\, MA\, 02703
CATEGORIES:Summer Services,Sunday Worship
ATTACH;FMTTYPE=image/jpeg:https://murrayuuchurch.org/wp-content/uploads/2022/10/Generic-MUU-1200x628-04.jpg
ORGANIZER;CN="Murray Unitarian Universalist Church":MAILTO:office@murrayuuchurch.org
END:VEVENT
BEGIN:VEVENT
DTSTART;TZID=America/New_York:20250831T100000
DTEND;TZID=America/New_York:20250831T110000
DTSTAMP:20260421T115154
CREATED:20250725T181134Z
LAST-MODIFIED:20250828T145834Z
UID:241709-1756634400-1756638000@murrayuuchurch.org
SUMMARY:Pop-Up Service
DESCRIPTION:Inspirations: A Bridge to the Fall at Murray\nLed by Bruce Field \nOriginally\, there was no service scheduled for this Sunday. This is a hybrid service that will be in the Unity Room and available on Zoom. \nLet’s share what’s recharged our spirits this summer and what will inspire us in the coming year at Murray! Is there a word\, a phrase\, a reading\, a writing of your own\, a short poem\, a song that lifts your spirit\, that inspires you — that you’d like to share? \n\nService begins at 10 a.m. This is a hybrid service. Join us in the Unity Room or log on to Zoom from the comfort and safety of your own home to participate in our worship experience. Service ends at 11 a.m.\, followed by coffee and fellowship. \nWe are a certified Welcoming Congregation and Green Sanctuary
URL:https://murrayuuchurch.org/muuc-event/pop-up-service/
LOCATION:Unity Room\, 505 N Main St\, Attleboro\, MA\, 02703\, United States
CATEGORIES:Summer Services,Sunday Worship
ATTACH;FMTTYPE=image/jpeg:https://murrayuuchurch.org/wp-content/uploads/2022/10/Generic-Chalice-1200x628-01.jpg
ORGANIZER;CN="Murray Unitarian Universalist Church":MAILTO:office@murrayuuchurch.org
END:VEVENT
END:VCALENDAR