BEGIN:VCALENDAR
VERSION:2.0
PRODID:-//Murray Unitarian Universalist Church - ECPv6.15.20//NONSGML v1.0//EN
CALSCALE:GREGORIAN
METHOD:PUBLISH
X-WR-CALNAME:Murray Unitarian Universalist Church
X-ORIGINAL-URL:https://murrayuuchurch.org
X-WR-CALDESC:Events for Murray Unitarian Universalist Church
REFRESH-INTERVAL;VALUE=DURATION:PT1H
X-Robots-Tag:noindex
X-PUBLISHED-TTL:PT1H
BEGIN:VTIMEZONE
TZID:America/New_York
BEGIN:DAYLIGHT
TZOFFSETFROM:-0500
TZOFFSETTO:-0400
TZNAME:EDT
DTSTART:20240310T070000
END:DAYLIGHT
BEGIN:STANDARD
TZOFFSETFROM:-0400
TZOFFSETTO:-0500
TZNAME:EST
DTSTART:20241103T060000
END:STANDARD
BEGIN:DAYLIGHT
TZOFFSETFROM:-0500
TZOFFSETTO:-0400
TZNAME:EDT
DTSTART:20250309T070000
END:DAYLIGHT
BEGIN:STANDARD
TZOFFSETFROM:-0400
TZOFFSETTO:-0500
TZNAME:EST
DTSTART:20251102T060000
END:STANDARD
BEGIN:DAYLIGHT
TZOFFSETFROM:-0500
TZOFFSETTO:-0400
TZNAME:EDT
DTSTART:20260308T070000
END:DAYLIGHT
BEGIN:STANDARD
TZOFFSETFROM:-0400
TZOFFSETTO:-0500
TZNAME:EST
DTSTART:20261101T060000
END:STANDARD
END:VTIMEZONE
BEGIN:VEVENT
DTSTART;TZID=America/New_York:20251005T100000
DTEND;TZID=America/New_York:20251005T110000
DTSTAMP:20260421T085559
CREATED:20250925T171837Z
LAST-MODIFIED:20250925T171837Z
UID:241869-1759658400-1759662000@murrayuuchurch.org
SUMMARY:Everyday Courage
DESCRIPTION:Sunday\, October 5\nCourage doesn’t always look dramatic. Sometimes it’s as simple as showing up for someone who needs support\, speaking a kind truth\, or taking one small step toward justice. In our Unitarian Universalist community\, we honor the quiet acts of bravery that shape our daily lives. The choices to live with integrity\, compassion\, and hope. \nWe believe that everyday courage is not about fearlessness\, but about living into our values even when the path feels uncertain. It grows when we stand together\, encourage one another\, and practice love in action. \n\nService begins at 10 a.m. This is a hybrid service. Join us in the sanctuary or log on to Zoom from the comfort and safety of your own home to participate in our worship experience. Service ends at 11 a.m.\, followed by coffee and fellowship. \nWe are a certified Welcoming Congregation and Green Sanctuary
URL:https://murrayuuchurch.org/muuc-event/everyday-courage/
LOCATION:Sanctuary\, Murray UU Church\, 505 N. Main St.\, Attleboro\, MA\, 02703\, United States
CATEGORIES:Sunday Worship
ATTACH;FMTTYPE=image/jpeg:https://murrayuuchurch.org/wp-content/uploads/2025/01/MUU-1200x628_Purple-Blue.jpg
ORGANIZER;CN="Murray Unitarian Universalist Church":MAILTO:office@murrayuuchurch.org
END:VEVENT
BEGIN:VEVENT
DTSTART;TZID=America/New_York:20251012T100000
DTEND;TZID=America/New_York:20251012T110000
DTSTAMP:20260421T085559
CREATED:20250929T174709Z
LAST-MODIFIED:20250929T174733Z
UID:241880-1760263200-1760266800@murrayuuchurch.org
SUMMARY:Finding Home On Stolen Land
DESCRIPTION:Sunday\, October 12\nLed by Rev. Jo Murphy \nOften in Unitarian Universalist churches\, we struggle with our relationship to the land our churches sit upon. Though we work to acknowledge the land\, we don’t always follow through with indigenous solidarity. This hurts our chance at fully belonging while recognizing the complications of any home. Come explore these complications in worship and what it takes to make any land home. \nRev. Jo is the Executive Director for UU Mass Action and\, with passion and zest\, mobilizes and organizes with the many UU Mass Action campaigns. Jo is also kept busy as a chaplain at Beth Israel Deaconess Medical Center in Boston and caring for her 1-year-old. She loves liberation\, the ocean\, and a fine chicken dinner. \n\nService begins at 10 a.m. This is a hybrid service. Join us in the sanctuary or log on to Zoom from the comfort and safety of your own home to participate in our worship experience. Service ends at 11 a.m.\, followed by coffee and fellowship. \nWe are a certified Welcoming Congregation and Green Sanctuary
URL:https://murrayuuchurch.org/muuc-event/finding-home-on-stolen-land/
LOCATION:Sanctuary\, Murray UU Church\, 505 N. Main St.\, Attleboro\, MA\, 02703\, United States
CATEGORIES:Sunday Worship
ATTACH;FMTTYPE=image/jpeg:https://murrayuuchurch.org/wp-content/uploads/2025/01/MUU-1200x628_Green-Orange.jpg
ORGANIZER;CN="Murray Unitarian Universalist Church":MAILTO:office@murrayuuchurch.org
END:VEVENT
BEGIN:VEVENT
DTSTART;TZID=America/New_York:20251019T100000
DTEND;TZID=America/New_York:20251019T110000
DTSTAMP:20260421T085559
CREATED:20251008T145149Z
LAST-MODIFIED:20251008T145149Z
UID:241934-1760868000-1760871600@murrayuuchurch.org
SUMMARY:Overcoming Fear
DESCRIPTION:Sunday\, October 19\, 2025\nFear is something we all struggle with; there’s the fear of being alone\, not being safe\, being a burden\, being dangerous to others\, being a part of an unjust society\, or being unwell. Sometimes we are lonely\, sometimes we are not safe\, sometimes we are a burden\, maybe we were dangerous to others at times\, maybe we are a part of an unjust society\, we will not always be well\, and this causes pain. When we obsess about the pain\, because\, let’s face it\, pain takes up a lot of space in our minds\, we can really be taken for a ride. What is painful becomes a catastrophe. \nHow do we keep what is naturally painful from becoming a catastrophic event? Join us as we delve into this question as we learn better to live into it.   \n\n\n\nService begins at 10 a.m. This is a hybrid service. Join us in the sanctuary or log on to Zoom from the comfort and safety of your own home to participate in our worship experience. Service ends at 11 a.m.\, followed by coffee and fellowship. \nWe are a certified Welcoming Congregation and Green Sanctuary
URL:https://murrayuuchurch.org/muuc-event/overcoming-fear/
LOCATION:Sanctuary\, Murray UU Church\, 505 N. Main St.\, Attleboro\, MA\, 02703\, United States
CATEGORIES:Sunday Worship
ATTACH;FMTTYPE=image/jpeg:https://murrayuuchurch.org/wp-content/uploads/2025/01/MUU-1200x628_Purple-Orange.jpg
ORGANIZER;CN="Murray Unitarian Universalist Church":MAILTO:office@murrayuuchurch.org
END:VEVENT
BEGIN:VEVENT
DTSTART;TZID=America/New_York:20251026T100000
DTEND;TZID=America/New_York:20251026T110000
DTSTAMP:20260421T085559
CREATED:20251022T085816Z
LAST-MODIFIED:20251022T085816Z
UID:241969-1761472800-1761476400@murrayuuchurch.org
SUMMARY:Finding the Truth
DESCRIPTION:Sunday\, October 26\, 2025\nLed by Rev. F. Vernon Wright V \n\nService begins at 10 a.m. This is a hybrid service. Join us in the sanctuary or log on to Zoom from the comfort and safety of your own home to participate in our worship experience. Service ends at 11 a.m.\, followed by coffee and fellowship. \nWe are a certified Welcoming Congregation and Green Sanctuary
URL:https://murrayuuchurch.org/muuc-event/finding-the-truth/
LOCATION:Sanctuary\, Murray UU Church\, 505 N. Main St.\, Attleboro\, MA\, 02703\, United States
CATEGORIES:Sunday Worship
ATTACH;FMTTYPE=image/jpeg:https://murrayuuchurch.org/wp-content/uploads/2025/01/MUU-1200x628_Green-Orange.jpg
ORGANIZER;CN="Murray Unitarian Universalist Church":MAILTO:office@murrayuuchurch.org
END:VEVENT
END:VCALENDAR