BEGIN:VCALENDAR
VERSION:2.0
PRODID:-//Murray Unitarian Universalist Church - ECPv6.15.20//NONSGML v1.0//EN
CALSCALE:GREGORIAN
METHOD:PUBLISH
X-ORIGINAL-URL:https://murrayuuchurch.org
X-WR-CALDESC:Events for Murray Unitarian Universalist Church
REFRESH-INTERVAL;VALUE=DURATION:PT1H
X-Robots-Tag:noindex
X-PUBLISHED-TTL:PT1H
BEGIN:VTIMEZONE
TZID:America/New_York
BEGIN:DAYLIGHT
TZOFFSETFROM:-0500
TZOFFSETTO:-0400
TZNAME:EDT
DTSTART:20240310T070000
END:DAYLIGHT
BEGIN:STANDARD
TZOFFSETFROM:-0400
TZOFFSETTO:-0500
TZNAME:EST
DTSTART:20241103T060000
END:STANDARD
BEGIN:DAYLIGHT
TZOFFSETFROM:-0500
TZOFFSETTO:-0400
TZNAME:EDT
DTSTART:20250309T070000
END:DAYLIGHT
BEGIN:STANDARD
TZOFFSETFROM:-0400
TZOFFSETTO:-0500
TZNAME:EST
DTSTART:20251102T060000
END:STANDARD
BEGIN:DAYLIGHT
TZOFFSETFROM:-0500
TZOFFSETTO:-0400
TZNAME:EDT
DTSTART:20260308T070000
END:DAYLIGHT
BEGIN:STANDARD
TZOFFSETFROM:-0400
TZOFFSETTO:-0500
TZNAME:EST
DTSTART:20261101T060000
END:STANDARD
END:VTIMEZONE
BEGIN:VEVENT
DTSTART;TZID=America/New_York:20250921T100000
DTEND;TZID=America/New_York:20250921T110000
DTSTAMP:20260421T115513
CREATED:20250903T202822Z
LAST-MODIFIED:20250918T005850Z
UID:241800-1758448800-1758452400@murrayuuchurch.org
SUMMARY:Offering Sanctuary
DESCRIPTION:Sunday\, September 21  \nAt our core\, we are about welcoming\, offering sanctuary to the last and the least\, and by extension\, to everyone. When we create space for those most in need of dignity and belonging\, we build a spiritual home that embraces all who enter. \nWelcome here is more than a greeting at the door; it’s a practice of justice\, compassion\, and community. To welcome the vulnerable is to affirm the worth and dignity of every person. To welcome the outsider is to widen our circle of love. And to welcome one another\, again and again\, is how we live out our shared faith. \nWe invite you to wonder with us: How do we live our welcome so no one feels like a stranger? What barriers\, seen or unseen\, can we lower so that all may enter freely? And how might this practice of welcome transform us as well? \n\nService begins at 10 a.m. This is a hybrid service. Join us in the sanctuary or log on to Zoom from the comfort and safety of your own home to participate in our worship experience. Service ends at 11 a.m.\, followed by coffee and fellowship. \nWe are a certified Welcoming Congregation and Green Sanctuary
URL:https://murrayuuchurch.org/muuc-event/offering-sanctuary/
LOCATION:Sanctuary\, Murray UU Church\, 505 N. Main St.\, Attleboro\, MA\, 02703\, United States
CATEGORIES:Sunday Worship
ATTACH;FMTTYPE=image/jpeg:https://murrayuuchurch.org/wp-content/uploads/2025/01/MUU-1200x628_Purple-Orange.jpg
ORGANIZER;CN="Murray Unitarian Universalist Church":MAILTO:office@murrayuuchurch.org
END:VEVENT
END:VCALENDAR