BEGIN:VCALENDAR
VERSION:2.0
PRODID:-//Murray Unitarian Universalist Church - ECPv6.15.20//NONSGML v1.0//EN
CALSCALE:GREGORIAN
METHOD:PUBLISH
X-ORIGINAL-URL:https://murrayuuchurch.org
X-WR-CALDESC:Events for Murray Unitarian Universalist Church
REFRESH-INTERVAL;VALUE=DURATION:PT1H
X-Robots-Tag:noindex
X-PUBLISHED-TTL:PT1H
BEGIN:VTIMEZONE
TZID:America/New_York
BEGIN:DAYLIGHT
TZOFFSETFROM:-0500
TZOFFSETTO:-0400
TZNAME:EDT
DTSTART:20240310T070000
END:DAYLIGHT
BEGIN:STANDARD
TZOFFSETFROM:-0400
TZOFFSETTO:-0500
TZNAME:EST
DTSTART:20241103T060000
END:STANDARD
BEGIN:DAYLIGHT
TZOFFSETFROM:-0500
TZOFFSETTO:-0400
TZNAME:EDT
DTSTART:20250309T070000
END:DAYLIGHT
BEGIN:STANDARD
TZOFFSETFROM:-0400
TZOFFSETTO:-0500
TZNAME:EST
DTSTART:20251102T060000
END:STANDARD
BEGIN:DAYLIGHT
TZOFFSETFROM:-0500
TZOFFSETTO:-0400
TZNAME:EDT
DTSTART:20260308T070000
END:DAYLIGHT
BEGIN:STANDARD
TZOFFSETFROM:-0400
TZOFFSETTO:-0500
TZNAME:EST
DTSTART:20261101T060000
END:STANDARD
END:VTIMEZONE
BEGIN:VEVENT
DTSTART;TZID=America/New_York:20251005T100000
DTEND;TZID=America/New_York:20251005T110000
DTSTAMP:20260421T101716
CREATED:20250925T171837Z
LAST-MODIFIED:20250925T171837Z
UID:241869-1759658400-1759662000@murrayuuchurch.org
SUMMARY:Everyday Courage
DESCRIPTION:Sunday\, October 5\nCourage doesn’t always look dramatic. Sometimes it’s as simple as showing up for someone who needs support\, speaking a kind truth\, or taking one small step toward justice. In our Unitarian Universalist community\, we honor the quiet acts of bravery that shape our daily lives. The choices to live with integrity\, compassion\, and hope. \nWe believe that everyday courage is not about fearlessness\, but about living into our values even when the path feels uncertain. It grows when we stand together\, encourage one another\, and practice love in action. \n\nService begins at 10 a.m. This is a hybrid service. Join us in the sanctuary or log on to Zoom from the comfort and safety of your own home to participate in our worship experience. Service ends at 11 a.m.\, followed by coffee and fellowship. \nWe are a certified Welcoming Congregation and Green Sanctuary
URL:https://murrayuuchurch.org/muuc-event/everyday-courage/
LOCATION:Sanctuary\, Murray UU Church\, 505 N. Main St.\, Attleboro\, MA\, 02703\, United States
CATEGORIES:Sunday Worship
ATTACH;FMTTYPE=image/jpeg:https://murrayuuchurch.org/wp-content/uploads/2025/01/MUU-1200x628_Purple-Blue.jpg
ORGANIZER;CN="Murray Unitarian Universalist Church":MAILTO:office@murrayuuchurch.org
END:VEVENT
END:VCALENDAR