BEGIN:VCALENDAR
VERSION:2.0
PRODID:-//Murray Unitarian Universalist Church - ECPv6.15.20//NONSGML v1.0//EN
CALSCALE:GREGORIAN
METHOD:PUBLISH
X-ORIGINAL-URL:https://murrayuuchurch.org
X-WR-CALDESC:Events for Murray Unitarian Universalist Church
REFRESH-INTERVAL;VALUE=DURATION:PT1H
X-Robots-Tag:noindex
X-PUBLISHED-TTL:PT1H
BEGIN:VTIMEZONE
TZID:America/New_York
BEGIN:DAYLIGHT
TZOFFSETFROM:-0500
TZOFFSETTO:-0400
TZNAME:EDT
DTSTART:20250309T070000
END:DAYLIGHT
BEGIN:STANDARD
TZOFFSETFROM:-0400
TZOFFSETTO:-0500
TZNAME:EST
DTSTART:20251102T060000
END:STANDARD
BEGIN:DAYLIGHT
TZOFFSETFROM:-0500
TZOFFSETTO:-0400
TZNAME:EDT
DTSTART:20260308T070000
END:DAYLIGHT
BEGIN:STANDARD
TZOFFSETFROM:-0400
TZOFFSETTO:-0500
TZNAME:EST
DTSTART:20261101T060000
END:STANDARD
BEGIN:DAYLIGHT
TZOFFSETFROM:-0500
TZOFFSETTO:-0400
TZNAME:EDT
DTSTART:20270314T070000
END:DAYLIGHT
BEGIN:STANDARD
TZOFFSETFROM:-0400
TZOFFSETTO:-0500
TZNAME:EST
DTSTART:20271107T060000
END:STANDARD
END:VTIMEZONE
BEGIN:VEVENT
DTSTART;TZID=America/New_York:20260301T100000
DTEND;TZID=America/New_York:20260301T110000
DTSTAMP:20260421T060724
CREATED:20260218T175829Z
LAST-MODIFIED:20260218T181620Z
UID:242473-1772359200-1772362800@murrayuuchurch.org
SUMMARY:Art of Pure Attention
DESCRIPTION:Sunday\, March 1\, 2026\nLed by Rev. F. Vernon Wright V \nAs a person who has struggled with ADHD-like symptoms\, meditation helped me better prioritize what the present moment required. I could better complete tasks I didn’t care for. I was more dependable. But I also learned attention could be like a clear blue sky–and thoughts and distractions like the clouds floating through. \nRalph Waldo Emerson was the first in our tradition to really address this reality in the UU tradition. Hinduism and Buddhism also have much to contribute. If I ask you to pay attention to something\, but that something is just another projection of another ego\, of what use is it? \n\nService begins at 10 a.m. This is a hybrid service. Join us in the sanctuary or log on to Zoom from the comfort and safety of your own home to participate in our worship experience. Service ends at 11 a.m.\, followed by coffee and fellowship. \nWe are a certified Welcoming Congregation and Green Sanctuary
URL:https://murrayuuchurch.org/muuc-event/art-of-pure-attention/
LOCATION:Sanctuary\, Murray UU Church\, 505 N. Main St.\, Attleboro\, MA\, 02703\, United States
CATEGORIES:Sunday Worship
ATTACH;FMTTYPE=image/jpeg:https://murrayuuchurch.org/wp-content/uploads/2025/01/MUU-1200x628_Orange-Yellow.jpg
ORGANIZER;CN="Murray Unitarian Universalist Church":MAILTO:office@murrayuuchurch.org
END:VEVENT
BEGIN:VEVENT
DTSTART;TZID=America/New_York:20260307T100000
DTEND;TZID=America/New_York:20260307T150000
DTSTAMP:20260421T060724
CREATED:20260116T165834Z
LAST-MODIFIED:20260127T141239Z
UID:242327-1772877600-1772895600@murrayuuchurch.org
SUMMARY:Holistic Fair 2026
DESCRIPTION:Discover Your Path to Wellness\nSaturday\, March 7 from 10 to 3\, featuring vendors\, readers\, practitioners\nJoin us for a day of exploration and connection at the Holistic Fair\, where we celebrate the interconnectedness of mind\, body\, and spirit.\nExplore a vibrant marketplace of holistic offerings:\n\nUnique Vendors: Discover handcrafted treasures\, crystals\, jewelry\, aromatherapy\, and more to support your well-being.\nIntuitive Readers: Gain insights and guidance from talented tarot readers\, astrologers\, energy readers\, and more..\nSkilled Practitioners: Experience the healing touch of reiki\, massage\, reflexology\, and other modalities.\n\nPlus:\n\nDelicious Concessions: Enjoy treats and refreshments.\nSupportive Community: Connect with like-minded individuals on a journey of self-discovery.\n\n $5 Admission (proceeds support Murray Unitarian Universalist Church and its programs)\nAt Murray Unitarian Universalist Church\, we embrace inclusivity and honor the inherent worth and dignity of every person. Our Holistic Fair reflects these values by creating a welcoming space for all to explore diverse paths to wellness. \nDon’t miss this opportunity to nurture your whole self and connect with our vibrant community!
URL:https://murrayuuchurch.org/muuc-event/holistic-fair-2026/
LOCATION:MA
CATEGORIES:Inside
ATTACH;FMTTYPE=image/jpeg:https://murrayuuchurch.org/wp-content/uploads/2026/01/2026-MUUC-Holistic-Fair.jpg
ORGANIZER;CN="Events at Murray UU Church":MAILTO:events@murrayuuchurch.org
END:VEVENT
BEGIN:VEVENT
DTSTART;TZID=America/New_York:20260308T100000
DTEND;TZID=America/New_York:20260308T110000
DTSTAMP:20260421T060724
CREATED:20260218T180230Z
LAST-MODIFIED:20260219T155800Z
UID:242475-1772964000-1772967600@murrayuuchurch.org
SUMMARY:International Women’s Day: Rights. Justice. Action
DESCRIPTION:Sunday\, March 8\, 2026\nLed by the Religious Services Committee \nNo nation has been able to close the legal gaps between men and women. Even in 2026\, women have only 64 per cent of the legal rights that men hold worldwide. In fundamental areas of life\, including work\, money\, safety\, family\, property\, mobility\, business\, and retirement – women and girls remain systematically disadvantaged. At the current pace\, it will take 286 years to close legal protection gaps. That is not a timeline\, it’s surrender.\n\nService begins at 10 a.m. This is a hybrid service. Join us in the sanctuary or log on to Zoom from the comfort and safety of your own home to participate in our worship experience. Service ends at 11 a.m.\, followed by coffee and fellowship. \nWe are a certified Welcoming Congregation and Green Sanctuary
URL:https://murrayuuchurch.org/muuc-event/international-womens-day/
LOCATION:Sanctuary\, Murray UU Church\, 505 N. Main St.\, Attleboro\, MA\, 02703\, United States
CATEGORIES:Sunday Worship
ATTACH;FMTTYPE=image/jpeg:https://murrayuuchurch.org/wp-content/uploads/2025/01/MUU-1200x628_Red-Orange.jpg
ORGANIZER;CN="Murray Unitarian Universalist Church":MAILTO:office@murrayuuchurch.org
END:VEVENT
BEGIN:VEVENT
DTSTART;TZID=America/New_York:20260315T100000
DTEND;TZID=America/New_York:20260315T110000
DTSTAMP:20260421T060724
CREATED:20260305T231700Z
LAST-MODIFIED:20260305T231819Z
UID:242535-1773568800-1773572400@murrayuuchurch.org
SUMMARY:Paying Attention to One Another
DESCRIPTION:Sunday\, March 15\, 2026\nLed by Rev. F. Vernon Wright V \nListening is one of those over-used words. We all think we know what it is until we are forced to really do it. Truly listening is difficult\, but it is also a transformative art if done with compassion and presence. \n\nService begins at 10 a.m. This is a hybrid service. Join us in the sanctuary or log on to Zoom from the comfort and safety of your own home to participate in our worship experience. Service ends at 11 a.m.\, followed by coffee and fellowship. \nWe are a certified Welcoming Congregation and Green Sanctuary
URL:https://murrayuuchurch.org/muuc-event/paying-attention-to-one-another/
LOCATION:Sanctuary\, Murray UU Church\, 505 N. Main St.\, Attleboro\, MA\, 02703\, United States
CATEGORIES:Sunday Worship
ATTACH;FMTTYPE=image/jpeg:https://murrayuuchurch.org/wp-content/uploads/2025/01/MUU-1200x628_Green-Orange.jpg
ORGANIZER;CN="Murray Unitarian Universalist Church":MAILTO:office@murrayuuchurch.org
END:VEVENT
BEGIN:VEVENT
DTSTART;TZID=America/New_York:20260315T140000
DTEND;TZID=America/New_York:20260315T163000
DTSTAMP:20260421T060724
CREATED:20260305T230327Z
LAST-MODIFIED:20260305T230629Z
UID:242532-1773583200-1773592200@murrayuuchurch.org
SUMMARY:Celebrating America's 250th
DESCRIPTION:Member Recital Celebrating America at 250\nSunday\, March 15\, 2026\, 2 pm.\nFeaturing Chaminade Schubert Artists: \n\nLinda Barbieri\, soprano\nThomas Conrad\, flute\nAnn Sears\, piano\nSara Michale Smith\, soprano\nManabu Takasawa\, piano\nGary Theis\, baritone
URL:https://murrayuuchurch.org/muuc-event/celebrating-americas-250th/
LOCATION:Sanctuary\, Murray UU Church\, 505 N. Main St.\, Attleboro\, MA\, 02703\, United States
CATEGORIES:Inside
ATTACH;FMTTYPE=image/png:https://murrayuuchurch.org/wp-content/uploads/2021/10/Chaminade-Music-Club-logo.png
END:VEVENT
BEGIN:VEVENT
DTSTART;TZID=America/New_York:20260322T100000
DTEND;TZID=America/New_York:20260322T110000
DTSTAMP:20260421T060724
CREATED:20260218T180818Z
LAST-MODIFIED:20260218T181903Z
UID:242477-1774173600-1774177200@murrayuuchurch.org
SUMMARY:Paying Attention to Nature
DESCRIPTION:Sunday\, March 22\, 2026\nLed by Rev. F. Vernon Wright V \nMarch 22 is the first day of Spring! Fittingly\, we will be focusing on awareness of nature. I just might be exploring a little of Henry David Thoreau’s thought! \n\nService begins at 10 a.m. This is a hybrid service. Join us in the sanctuary or log on to Zoom from the comfort and safety of your own home to participate in our worship experience. Service ends at 11 a.m.\, followed by coffee and fellowship. \nWe are a certified Welcoming Congregation and Green Sanctuary
URL:https://murrayuuchurch.org/muuc-event/paying-attention-to-nature/
LOCATION:Sanctuary\, Murray UU Church\, 505 N. Main St.\, Attleboro\, MA\, 02703\, United States
CATEGORIES:Sunday Worship
ATTACH;FMTTYPE=image/jpeg:https://murrayuuchurch.org/wp-content/uploads/2025/01/MUU-1200x628_Purple-Green.jpg
ORGANIZER;CN="Murray Unitarian Universalist Church":MAILTO:office@murrayuuchurch.org
END:VEVENT
BEGIN:VEVENT
DTSTART;TZID=America/New_York:20260328T150000
DTEND;TZID=America/New_York:20260328T170000
DTSTAMP:20260421T060724
CREATED:20260305T151851Z
LAST-MODIFIED:20260305T152403Z
UID:242521-1774710000-1774717200@murrayuuchurch.org
SUMMARY:No Kings\, March 28
DESCRIPTION:Saturday\, March 28\, 2026\n3 to 5 pm\nCharles O. Fiske Square\, Downtown\, S. Main St.\, Attleboro\, MA\nCLICK HERE to register on Moblize \nAbout this event\nWe have the power and are claiming it together. No Thrones. No Crowns. No Kings. \nWhat began in 2025 as a single day of defiance has become a sustained national resistance to tyranny\, spreading from small towns to city centers and across every community determined to defend democracy. Our peaceful movement is bigger than ever. \nWhen our families are under attack\, and costs are pushing people to the brink\, silence is not an option. We will defend ourselves and our communities against this administration’s unjust and cruel acts of violence. \nOn March 28th\, rise up\, take to the streets\, and say it loud: no thrones\, no crowns\, no kings. We’re not watching history happen—we’re making it. Join us. \nA core principle behind all No Kings events is a commitment to nonviolent action. We expect all participants to seek to de-escalate any potential confrontation with those who disagree with our values and to act lawfully at these events. Weapons of any kind\, including those legally permitted\, should not be brought to events.
URL:https://murrayuuchurch.org/muuc-event/no-kings-march-28/
LOCATION:Downtown Attleboro\, 1 Park St.\, Attleboro\, MA\, United States
CATEGORIES:Protest
ATTACH;FMTTYPE=image/avif:https://murrayuuchurch.org/wp-content/uploads/2026/03/NO-KINGS-2026-03-28.avif
END:VEVENT
BEGIN:VEVENT
DTSTART;TZID=America/New_York:20260328T180000
DTEND;TZID=America/New_York:20260328T210000
DTSTAMP:20260421T060724
CREATED:20260302T174134Z
LAST-MODIFIED:20260302T174340Z
UID:242516-1774720800-1774731600@murrayuuchurch.org
SUMMARY:Friends and Family Karaoke Night
DESCRIPTION:Saturday\, March 28\, 6:00–9:00 pm\nMurray’s friends and family are invited to a free evening of fun\, food\, and music\n\nPizza and soft drinks provided. Wine available for a donation.\nYouth karaoke: 6:00–7:00 pm\nAfter 7:00 pm\, children will retire to the Unity Room for supervised entertainment.\n\nThis night is guaranteed to be entertaining\, so come ready to sing\, cheer\, and laugh—and be sure to invite your family and friends! Sign-ups have begun at coffee hour\, so we know how many people to plan for. \nChildcare can be provided while adults enjoy an open mic for songs and other talents. Please get in touch with us if you need childcare.
URL:https://murrayuuchurch.org/muuc-event/friends-and-family-karaoke-night/
LOCATION:Fellowship Hall\, Murray UU Church\, 505 N Main St\, Attleboro\, MA\, 02703\, United States
CATEGORIES:Inside
ATTACH;FMTTYPE=image/jpeg:https://murrayuuchurch.org/wp-content/uploads/2023/02/Karaoke-Night-Art.jpg
ORGANIZER;CN="Murray Unitarian Universalist Church":MAILTO:office@murrayuuchurch.org
END:VEVENT
BEGIN:VEVENT
DTSTART;TZID=America/New_York:20260329T100000
DTEND;TZID=America/New_York:20260329T110000
DTSTAMP:20260421T060724
CREATED:20260218T181218Z
LAST-MODIFIED:20260218T181409Z
UID:242479-1774778400-1774782000@murrayuuchurch.org
SUMMARY:Paying Attention to the 'Other': Challenging Conversation
DESCRIPTION:Sunday\, March 29\, 2026\nLed by Rev. F. Vernon Wright V \nOur town and nation are highly polarized. People around the world come from a myriad of different cultures and customs. Many different languages are spoken. This week\, we will explore the theme of how our attention can diffuse conflicts and better build bridges between people. \n\n\nService begins at 10 a.m. This is a hybrid service. Join us in the sanctuary or log on to Zoom from the comfort and safety of your own home to participate in our worship experience. Service ends at 11 a.m.\, followed by coffee and fellowship. \nWe are a certified Welcoming Congregation and Green Sanctuary
URL:https://murrayuuchurch.org/muuc-event/paying-attention-to-the-other/
LOCATION:Sanctuary\, Murray UU Church\, 505 N. Main St.\, Attleboro\, MA\, 02703\, United States
CATEGORIES:Sunday Worship
ATTACH;FMTTYPE=image/jpeg:https://murrayuuchurch.org/wp-content/uploads/2025/01/MUU-1200x628_Purple-Blue.jpg
END:VEVENT
END:VCALENDAR